BEGIN:VCALENDAR
VERSION:2.0
PRODID:-//Opaque Smoke School Inc. - ECPv6.15.20//NONSGML v1.0//EN
CALSCALE:GREGORIAN
METHOD:PUBLISH
X-WR-CALNAME:Opaque Smoke School Inc.
X-ORIGINAL-URL:https://opaquesmokeschool.com
X-WR-CALDESC:Events for Opaque Smoke School Inc.
REFRESH-INTERVAL;VALUE=DURATION:PT1H
X-Robots-Tag:noindex
X-PUBLISHED-TTL:PT1H
BEGIN:VTIMEZONE
TZID:America/Chicago
BEGIN:DAYLIGHT
TZOFFSETFROM:-0600
TZOFFSETTO:-0500
TZNAME:CDT
DTSTART:20250309T080000
END:DAYLIGHT
BEGIN:STANDARD
TZOFFSETFROM:-0500
TZOFFSETTO:-0600
TZNAME:CST
DTSTART:20251102T070000
END:STANDARD
BEGIN:DAYLIGHT
TZOFFSETFROM:-0600
TZOFFSETTO:-0500
TZNAME:CDT
DTSTART:20260308T080000
END:DAYLIGHT
BEGIN:STANDARD
TZOFFSETFROM:-0500
TZOFFSETTO:-0600
TZNAME:CST
DTSTART:20261101T070000
END:STANDARD
BEGIN:DAYLIGHT
TZOFFSETFROM:-0600
TZOFFSETTO:-0500
TZNAME:CDT
DTSTART:20270314T080000
END:DAYLIGHT
BEGIN:STANDARD
TZOFFSETFROM:-0500
TZOFFSETTO:-0600
TZNAME:CST
DTSTART:20271107T070000
END:STANDARD
END:VTIMEZONE
BEGIN:VEVENT
DTSTART;TZID=America/Chicago:20260421T090000
DTEND;TZID=America/Chicago:20260421T153000
DTSTAMP:20260421T052335
CREATED:20250314T151815Z
LAST-MODIFIED:20250402T212900Z
UID:30004212-1776762000-1776785400@opaquesmokeschool.com
SUMMARY:Norfolk\, NE - Semi-private
DESCRIPTION:Norfolk\, Nebraska \n2911 E. Nucor Road\, Norfolk\, NE  68701\nOnline Registration for Norfolk Recertification \nField Training Start Time: 9:00 a.m. \nBack entrance to field site coordinates (42.0736943\, -97.3671531) \nField site location (42.0737095\, -97.3684939) \nLocation Image \n 
URL:https://opaquesmokeschool.com/event/nucor-steel-norfolk-ne-semi-private-2-2-2/2026-04-21/
LOCATION:Norfolk\, NE\, 2911 E Nucor Road\, Norfolk\, NE\, 68701\, United States
CATEGORIES:Nebraska Smoke Schools,Private Event,Public Event
GEO:42.0775612;-97.3656153
X-APPLE-STRUCTURED-LOCATION;VALUE=URI;X-ADDRESS=Norfolk NE 2911 E Nucor Road Norfolk NE 68701 United States;X-APPLE-RADIUS=500;X-TITLE=2911 E Nucor Road:geo:-97.3656153,42.0775612
END:VEVENT
END:VCALENDAR